BEGIN:VCALENDAR
VERSION:2.0
PRODID:-//Eventin//Event Calendar//EN
CALSCALE:GREGORIAN
METHOD:PUBLISH
BEGIN:VEVENT
UID:cce9daffe8de07347c13fd7ce0baa2e0@clean-protect.de
SUMMARY:Refresh-Tag für Hygienebeauftragte & Desinfektoren
DESCRIPTION:Sie sind für das Hygienemanagement in Ihrer Einrichtung verant
 wortlich? Schreiben Hygienepläne und schulen Ihre Kollegen?\nIhre Ausbildu
 ng liegt schon etwas zurück und Sie möchten sich auf den neuesten Stand d
 er bestehenden Hygienestandards bringen?\nDann sind wir für Sie der richti
 ge Ansprechpartner!\nDurch unsere über Jahre erlangte Erfahrung im Hygiene
 management vermitteln wir Ihnen fundiertes Wissen und erhalten somiteine pr
 ofessionelle und praxisorientierte Ausbildung. Unsere Fachausbilder\, sowie
  Experten der Feuerwehr Hamburg sind auf dem neuesten Wissensstand der heut
 e geltenden Hygienestandards und geben ihre Erfahrung gerne an Sie weiter.\
 nAusschnitt Kursinhalte:\n\nHygienestandard\nHygieneplan\nUmgang mit infekt
 iösen Patienten\nInfektionsschutzgesetz
LOCATION:Hybrid
DTSTAMP:20260425T103925Z
DTSTART:20260910T070000Z
DTEND:20260910T140000Z
END:VEVENT
END:VCALENDAR
