BEGIN:VCALENDAR
VERSION:2.0
PRODID:-//Eventin//Event Calendar//EN
CALSCALE:GREGORIAN
METHOD:PUBLISH
BEGIN:VEVENT
UID:f4edf8b7c3adbc7c20390ddb6cbdb941@clean-protect.de
SUMMARY:Ausbildung zum Desinfektor
DESCRIPTION:Sie sind in einer medizinischen Einrichtung tätig oder in eine
 m anderen Unternehmen\, wo Hygiene ein wichtiger Bestandteil Ihres Alltags 
 ist?\nMöchten Sie sich weiterentwickeln und weiterhin flexibel einsetzbar 
 sein oder für Ihr Unternehmen eine Fachkraft zur Verbesserung Ihres Hygien
 emanagements ausbilden lassen?\nDann lassen Sie sich von uns zum Desinfekto
 r ausbilden!\nDurch unsere über Jahre erlangte Erfahrung im Hygienemanagem
 ent können wir Ihnen fundiertes Wissen vermitteln. Sie erhalten eine profe
 ssionelle und praxisorientierte Ausbildung abgestimmt auf Ihr späteres Tä
 tigkeitsfeld.\nUnsere Experten aus diversen Fachbereichen sind auf dem neue
 sten Wissensstand der heute geltenden Hygienestandards und geben ihre Erfah
 rung gerne an Sie weiter\nAusschnitt Kursinhalte:\n\nNeueste Desinfektionst
 echniken\nInfektionskrankheiten\nReinigung\nRechtliche Grundlagen\nMikrobio
 logie
LOCATION:Deelbögenkamp 4b\, 22297 Hamburg\, Hamburg-Nord\, Germany
DTSTAMP:20260425T102828Z
DTSTART:20260928T063000Z
DTEND:20261009T140000Z
END:VEVENT
END:VCALENDAR
